BEGIN:VCALENDAR
VERSION:2.0
PRODID:-//Düsseldorfer Paddlergilde e.V. - ECPv6.15.20//NONSGML v1.0//EN
CALSCALE:GREGORIAN
METHOD:PUBLISH
X-ORIGINAL-URL:https://relaunch.duesseldorfer-paddlergilde.de
X-WR-CALDESC:Veranstaltungen für Düsseldorfer Paddlergilde e.V.
REFRESH-INTERVAL;VALUE=DURATION:PT1H
X-Robots-Tag:noindex
X-PUBLISHED-TTL:PT1H
BEGIN:VTIMEZONE
TZID:Europe/Berlin
BEGIN:DAYLIGHT
TZOFFSETFROM:+0100
TZOFFSETTO:+0200
TZNAME:CEST
DTSTART:20210328T010000
END:DAYLIGHT
BEGIN:STANDARD
TZOFFSETFROM:+0200
TZOFFSETTO:+0100
TZNAME:CET
DTSTART:20211031T010000
END:STANDARD
BEGIN:DAYLIGHT
TZOFFSETFROM:+0100
TZOFFSETTO:+0200
TZNAME:CEST
DTSTART:20220327T010000
END:DAYLIGHT
BEGIN:STANDARD
TZOFFSETFROM:+0200
TZOFFSETTO:+0100
TZNAME:CET
DTSTART:20221030T010000
END:STANDARD
BEGIN:DAYLIGHT
TZOFFSETFROM:+0100
TZOFFSETTO:+0200
TZNAME:CEST
DTSTART:20230326T010000
END:DAYLIGHT
BEGIN:STANDARD
TZOFFSETFROM:+0200
TZOFFSETTO:+0100
TZNAME:CET
DTSTART:20231029T010000
END:STANDARD
END:VTIMEZONE
BEGIN:VEVENT
DTSTART;VALUE=DATE:20220311
DTEND;VALUE=DATE:20220315
DTSTAMP:20260421T105557
CREATED:20211227T143845Z
LAST-MODIFIED:20211227T144329Z
UID:90-1646960400-1647219599@relaunch.duesseldorfer-paddlergilde.de
SUMMARY:Grünkohlfahrt
DESCRIPTION:Wochenendausflug: Grünkohlfahrt zu den Trierer Kanufahrern. Übernachtet wird in ihrem Bootshaus. \nAnmeldung bis 15.02.22 \nOrganisator: Uschi
URL:https://relaunch.duesseldorfer-paddlergilde.de/event/gruenkohlfahrt
CATEGORIES:Vereinsfahrt
END:VEVENT
END:VCALENDAR